BEGIN:VCALENDAR
VERSION:2.0
PRODID:-//Meetingpoint Memory Messiaen e.V. - ECPv6.15.15//NONSGML v1.0//EN
CALSCALE:GREGORIAN
METHOD:PUBLISH
X-ORIGINAL-URL:https://www.meetingpoint-memory-messiaen.eu
X-WR-CALDESC:Veranstaltungen für Meetingpoint Memory Messiaen e.V.
REFRESH-INTERVAL;VALUE=DURATION:PT1H
X-Robots-Tag:noindex
X-PUBLISHED-TTL:PT1H
BEGIN:VTIMEZONE
TZID:Europe/Berlin
BEGIN:DAYLIGHT
TZOFFSETFROM:+0100
TZOFFSETTO:+0200
TZNAME:CEST
DTSTART:20240331T010000
END:DAYLIGHT
BEGIN:STANDARD
TZOFFSETFROM:+0200
TZOFFSETTO:+0100
TZNAME:CET
DTSTART:20241027T010000
END:STANDARD
BEGIN:DAYLIGHT
TZOFFSETFROM:+0100
TZOFFSETTO:+0200
TZNAME:CEST
DTSTART:20250330T010000
END:DAYLIGHT
BEGIN:STANDARD
TZOFFSETFROM:+0200
TZOFFSETTO:+0100
TZNAME:CET
DTSTART:20251026T010000
END:STANDARD
BEGIN:DAYLIGHT
TZOFFSETFROM:+0100
TZOFFSETTO:+0200
TZNAME:CEST
DTSTART:20260329T010000
END:DAYLIGHT
BEGIN:STANDARD
TZOFFSETFROM:+0200
TZOFFSETTO:+0100
TZNAME:CET
DTSTART:20261025T010000
END:STANDARD
END:VTIMEZONE
BEGIN:VEVENT
DTSTART;VALUE=DATE:20250115
DTEND;VALUE=DATE:20250116
DTSTAMP:20260422T072425
CREATED:20241007T105401Z
LAST-MODIFIED:20241007T105401Z
UID:22089-1736899200-1736985599@www.meetingpoint-memory-messiaen.eu
SUMMARY:Messiaen-Tage 2025
DESCRIPTION:Wir freuen uns\, Ihnen mitteilen zu können\, dass die Messiaen-Tage im Jahr 2025 in einem neuen Format stattfinden werden! \nNach der Absage im letzten Jahr wird die 8. Ausgabe des Festivals für Musik\, Geschichte und Kunst zum ersten Mal an einem neuen Datum stattfinden. \nAm 15. Januar 2025 wird Olivier Messiaens „Quartett für das Ende der Zeit“ wie gewohnt am Jahrestag und Ort seiner Uraufführung in der Gedenkstätte Stalag VIII A Görlitz aufgeführt. \nWeitere anregende Festivalveranstaltungen finden vom 25. bis 27. April 2025 in Görlitz und Zgorzelec statt. \nWeitere Informationen folgen in Kürze.
URL:https://www.meetingpoint-memory-messiaen.eu/event/messiaen-tage-2025/
CATEGORIES:Konzert
ATTACH;FMTTYPE=image/jpeg:https://www.meetingpoint-memory-messiaen.eu/wp-content/uploads/2024/09/MT25_save_the_date_960x960px.jpg
END:VEVENT
END:VCALENDAR