BEGIN:VCALENDAR
VERSION:2.0
PRODID:-//Meetingpoint Memory Messiaen e.V. - ECPv6.15.15//NONSGML v1.0//EN
CALSCALE:GREGORIAN
METHOD:PUBLISH
X-WR-CALNAME:Meetingpoint Memory Messiaen e.V.
X-ORIGINAL-URL:https://www.meetingpoint-memory-messiaen.eu
X-WR-CALDESC:Veranstaltungen für Meetingpoint Memory Messiaen e.V.
REFRESH-INTERVAL;VALUE=DURATION:PT1H
X-Robots-Tag:noindex
X-PUBLISHED-TTL:PT1H
BEGIN:VTIMEZONE
TZID:Europe/Berlin
BEGIN:DAYLIGHT
TZOFFSETFROM:+0100
TZOFFSETTO:+0200
TZNAME:CEST
DTSTART:20230326T010000
END:DAYLIGHT
BEGIN:STANDARD
TZOFFSETFROM:+0200
TZOFFSETTO:+0100
TZNAME:CET
DTSTART:20231029T010000
END:STANDARD
BEGIN:DAYLIGHT
TZOFFSETFROM:+0100
TZOFFSETTO:+0200
TZNAME:CEST
DTSTART:20240331T010000
END:DAYLIGHT
BEGIN:STANDARD
TZOFFSETFROM:+0200
TZOFFSETTO:+0100
TZNAME:CET
DTSTART:20241027T010000
END:STANDARD
BEGIN:DAYLIGHT
TZOFFSETFROM:+0100
TZOFFSETTO:+0200
TZNAME:CEST
DTSTART:20250330T010000
END:DAYLIGHT
BEGIN:STANDARD
TZOFFSETFROM:+0200
TZOFFSETTO:+0100
TZNAME:CET
DTSTART:20251026T010000
END:STANDARD
END:VTIMEZONE
BEGIN:VEVENT
DTSTART;VALUE=DATE:20240901
DTEND;VALUE=DATE:20240902
DTSTAMP:20260422T123618
CREATED:20231117T124155Z
LAST-MODIFIED:20231117T124155Z
UID:21005-1725148800-1725235199@www.meetingpoint-memory-messiaen.eu
SUMMARY:Gedenkveranstaltung zum Jahrestag des Ausbruchs des Zweiten Weltkrieges
DESCRIPTION:Wie jedes Jahr möchte der Meetingpoint Memory Messiaen e.V. zusammen mit der Stiftung Erinnerung\, Bildung\, Kultur dem Ausbruchs des Zweiten Weltkrieges gedenken. Die Feierlichkeiten zu diesem Tag finden immer am Adlerdenkmal in Zgorzelec statt\, das zum Gedenken an die Zweite Polnische Armee errichtet wurde\, die dieses Gebiet 1945 an der Seite der Roten Armee befreite.
URL:https://www.meetingpoint-memory-messiaen.eu/event/gedenkveranstaltung-zum-jahrestag-des-ausbruchs-des-zweiten-weltkrieges/
ATTACH;FMTTYPE=image/jpeg:https://www.meetingpoint-memory-messiaen.eu/wp-content/uploads/2022/09/Standard-Horizontal960x400px.jpg
END:VEVENT
BEGIN:VEVENT
DTSTART;TZID=Europe/Berlin:20240908T110000
DTEND;TZID=Europe/Berlin:20240908T123000
DTSTAMP:20260422T123618
CREATED:20240504T202944Z
LAST-MODIFIED:20240513T125428Z
UID:21648-1725793200-1725798600@www.meetingpoint-memory-messiaen.eu
SUMMARY:FÜHRUNG DURCH DIE GEDENKSTÄTTE STALAG VIII A
DESCRIPTION:Eine Führung dauert 1 bis 1\,5 Stunden und kostet 10 €*  pro Person. Während dieser erfahren Sie die grundlegenden Fakten über die Geschichte des Ortes\, seiner Opfer aus aller Welt\, die während des Zweiten Weltkireges in Görlitz und Umgebung durch Arbeit ausgebeutet wurden\, sowie über das gesamte System der Kriegsgefangenenlager im Dritten Reich. Außerdem erhalten Sie einen Einblick in die Vermittlungsarbeit der deutsch-polnischen Gedenkstätte\, ihrer Forschung\, zukünftige Projektvorhaben und weiterführende Ausstellungen. \nDie Führungen bieten wir auch auf Polnisch an. \nDes Weiteren finden Führungen auch im Kontext bestimmter Veranstaltungen (Bsp. „Vogelstimmen auf der Spur“) statt. \nFührungen auf dem Gelände des ehemaligen Stalag VIII A und im Gebäude des Zentrums sind grundsätzlich immer möglich. \nZusätzlich bieten wir auch für Gruppen ein Grablicht zum Gedenken  für 5\,00€ pro Licht an. \nTermine 2024 (Start jeweils um 11:00 Uhr): \n08.09.2024 DE\n22.09.2024 PL \nAnfahrt: Europejskie Centrum Pamięć\, Edukacja\, Kultura\nKoźlice 1 | 59-900 Zgorzelec /Gedenkstätte Stalag VIII A \nDie Tickets können Sie im Büro der Görlitz Information erstehen. Die öffentlichen Führungen finden auf Deutsch statt. Preis pro Person: 10\,00 €. \nAnmeldung
URL:https://www.meetingpoint-memory-messiaen.eu/event/fuehrung-durch-die-gedenkstaette-stalag-viii-a-6/
LOCATION:Stalag VIII A\, Koźlice 1\, Zgorzelec\, Dolnośląskie\, 59-900\, Polen
CATEGORIES:Führung
ATTACH;FMTTYPE=image/jpeg:https://www.meetingpoint-memory-messiaen.eu/wp-content/uploads/2023/05/zwiedzanie.jpg
ORGANIZER;CN="Meetingpoint Memory Messiaen e.V.":MAILTO:info@meetingpointmm.eu
END:VEVENT
BEGIN:VEVENT
DTSTART;TZID=Europe/Berlin:20240908T110000
DTEND;TZID=Europe/Berlin:20240908T143000
DTSTAMP:20260422T123618
CREATED:20240504T201823Z
LAST-MODIFIED:20240504T201823Z
UID:21636-1725793200-1725805800@www.meetingpoint-memory-messiaen.eu
SUMMARY:FAHRRADTOUR “Eroberung der Neiße-Linie”
DESCRIPTION:In diesem Jahr organisiert der Meetingpoint Memory Messiaen e.V. eine Reihe von inhaltlich begleiteten Radtouren zu Orten in Görlitz\, Zgorzelec und der Region\, die historisch mit dem Zweiten Weltkrieg verbunden sind. Die Touren führen zu historischen Orten von Zwangsarbeit\, Kriegsgefangenschaft und jüdischem Leben. Während den Touren werden geladene Experten die Orte thematisch aufarbeiten und kontextualisieren.\nDie Touren finden jeweils sonntags um 11 Uhr statt. \nTermine und weitere Details zu den einzelnen Touren finden Sie unten. \nDie geplante Dauer der Radtouren beträgt bis zu 2\,5 Stunden. \nSprachen: Deutsch und Polnisch (Dolmetscher:innen werden vor Ort sein) \nAnzahl der Plätze: bis zu 20 pro Tour Sie können sich hier für die. \nDie Teilnahme ist kostenlos. \nTour anmelden HIER. \nMehr Informationen: https://www.meetingpoint-memory-messiaen.eu/cool_timeline/eroberung-der-neisse-linie/ \nyavorska@meetingpointmm.eu \n+49 (0) 3581 66 12 69
URL:https://www.meetingpoint-memory-messiaen.eu/event/fahrradtour-eroberung-der-neisse-linie/
LOCATION:Görlitz-Zgorzelec\, Görlitz\, Germany
CATEGORIES:Forgotten Places,Führung
ATTACH;FMTTYPE=image/jpeg:https://www.meetingpoint-memory-messiaen.eu/wp-content/uploads/2024/05/ForgottenPlaces_DE_kalendar.jpg
ORGANIZER;CN="Meetingpoint Memory Messiaen e.V.":MAILTO:info@meetingpointmm.eu
END:VEVENT
BEGIN:VEVENT
DTSTART;TZID=Europe/Berlin:20240922T110000
DTEND;TZID=Europe/Berlin:20240922T140000
DTSTAMP:20260422T123618
CREATED:20240504T202050Z
LAST-MODIFIED:20240504T202050Z
UID:21638-1727002800-1727013600@www.meetingpoint-memory-messiaen.eu
SUMMARY:FAHRRADTOUR “Orte des Verbrechens an Jüdinnen und Juden”
DESCRIPTION:In diesem Jahr organisiert der Meetingpoint Memory Messiaen e.V. eine Reihe von inhaltlich begleiteten Radtouren zu Orten in Görlitz\, Zgorzelec und der Region\, die historisch mit dem Zweiten Weltkrieg verbunden sind. Die Touren führen zu historischen Orten von Zwangsarbeit\, Kriegsgefangenschaft und jüdischem Leben. Während den Touren werden geladene Experten die Orte thematisch aufarbeiten und kontextualisieren.\nDie Touren finden jeweils sonntags um 11 Uhr statt. \nTermine und weitere Details zu den einzelnen Touren finden Sie unten. \nDie geplante Dauer der Radtouren beträgt bis zu 2\,5 Stunden. \nSprachen: Deutsch und Polnisch (Dolmetscher:innen werden vor Ort sein) \nAnzahl der Plätze: bis zu 20 pro Tour Sie können sich hier für die. \nDie Teilnahme ist kostenlos. \nTour anmelden HIER. \nMehr Informationen: https://www.meetingpoint-memory-messiaen.eu/cool_timeline/orte-des-verbrechens-an-juedinnen-und-juden/ \nyavorska@meetingpointmm.eu \n+49 (0) 3581 66 12 69
URL:https://www.meetingpoint-memory-messiaen.eu/event/fahrradtour-orte-des-verbrechens-an-juedinnen-und-juden/
LOCATION:Görlitz-Zgorzelec\, Görlitz\, Germany
CATEGORIES:Forgotten Places,Führung
ATTACH;FMTTYPE=image/jpeg:https://www.meetingpoint-memory-messiaen.eu/wp-content/uploads/2024/05/ForgottenPlaces_DE_kalendar.jpg
ORGANIZER;CN="Meetingpoint Memory Messiaen e.V.":MAILTO:info@meetingpointmm.eu
END:VEVENT
END:VCALENDAR