BEGIN:VCALENDAR
VERSION:2.0
PRODID:-//Meetingpoint Memory Messiaen e.V. - ECPv6.15.15//NONSGML v1.0//EN
CALSCALE:GREGORIAN
METHOD:PUBLISH
X-ORIGINAL-URL:https://www.meetingpoint-memory-messiaen.eu
X-WR-CALDESC:Veranstaltungen für Meetingpoint Memory Messiaen e.V.
REFRESH-INTERVAL;VALUE=DURATION:PT1H
X-Robots-Tag:noindex
X-PUBLISHED-TTL:PT1H
BEGIN:VTIMEZONE
TZID:Europe/Berlin
BEGIN:DAYLIGHT
TZOFFSETFROM:+0100
TZOFFSETTO:+0200
TZNAME:CEST
DTSTART:20230326T010000
END:DAYLIGHT
BEGIN:STANDARD
TZOFFSETFROM:+0200
TZOFFSETTO:+0100
TZNAME:CET
DTSTART:20231029T010000
END:STANDARD
BEGIN:DAYLIGHT
TZOFFSETFROM:+0100
TZOFFSETTO:+0200
TZNAME:CEST
DTSTART:20240331T010000
END:DAYLIGHT
BEGIN:STANDARD
TZOFFSETFROM:+0200
TZOFFSETTO:+0100
TZNAME:CET
DTSTART:20241027T010000
END:STANDARD
BEGIN:DAYLIGHT
TZOFFSETFROM:+0100
TZOFFSETTO:+0200
TZNAME:CEST
DTSTART:20250330T010000
END:DAYLIGHT
BEGIN:STANDARD
TZOFFSETFROM:+0200
TZOFFSETTO:+0100
TZNAME:CET
DTSTART:20251026T010000
END:STANDARD
END:VTIMEZONE
BEGIN:VEVENT
DTSTART;TZID=Europe/Berlin:20240720T120000
DTEND;TZID=Europe/Berlin:20240803T120000
DTSTAMP:20260422T140807
CREATED:20231117T120905Z
LAST-MODIFIED:20240429T094348Z
UID:20999-1721476800-1722686400@www.meetingpoint-memory-messiaen.eu
SUMMARY:YOUNION 2024
DESCRIPTION:Die bereits 17.te Edition der internationalen Jugendbegegnung YOUNION (ehemals Worcation) findet zwischen 20.07.24- 03.08.24 statt. Ab dem 01.05.2024 sind Anmeldungen möglich! \n 
URL:https://www.meetingpoint-memory-messiaen.eu/event/younion-2024/
LOCATION:Görlitz-Zgorzelec\, Görlitz\, Germany
ATTACH;FMTTYPE=image/jpeg:https://www.meetingpoint-memory-messiaen.eu/wp-content/uploads/2023/08/Worcation-Gruppenbild.jpg
ORGANIZER;CN="Meetingpoint Memory Messiaen e.V.":MAILTO:info@meetingpointmm.eu
END:VEVENT
BEGIN:VEVENT
DTSTART;VALUE=DATE:20240802
DTEND;VALUE=DATE:20240803
DTSTAMP:20260422T140807
CREATED:20231117T121417Z
LAST-MODIFIED:20240429T094215Z
UID:21001-1722556800-1722643199@www.meetingpoint-memory-messiaen.eu
SUMMARY:YOUNION Abschlussveranstaltung
DESCRIPTION:Bei der Abschlussveranstaltung von YOUNION 24 werden die Teilnehmenden jungen Europäer:innen die Ergebnisse ihrer Workshoparbeiten vor geladenem Publikum präsentieren. Dem Voraus geht eine Gedenkveranstaltung\, in der zeremoniell den Kriegsgefangenen des Stalag VIII A gedacht wird.
URL:https://www.meetingpoint-memory-messiaen.eu/event/worcation-abschlussveranstaltung/
ATTACH;FMTTYPE=image/jpeg:https://www.meetingpoint-memory-messiaen.eu/wp-content/uploads/2023/08/worcation_2023_05.jpg
ORGANIZER;CN="Meetingpoint Memory Messiaen e.V.":MAILTO:info@meetingpointmm.eu
END:VEVENT
BEGIN:VEVENT
DTSTART;TZID=Europe/Berlin:20240811T110000
DTEND;TZID=Europe/Berlin:20240811T123000
DTSTAMP:20260422T140807
CREATED:20240504T202819Z
LAST-MODIFIED:20240513T125405Z
UID:21646-1723374000-1723379400@www.meetingpoint-memory-messiaen.eu
SUMMARY:FÜHRUNG DURCH DIE GEDENKSTÄTTE STALAG VIII A
DESCRIPTION:Eine Führung dauert 1 bis 1\,5 Stunden und kostet 10 €*  pro Person. Während dieser erfahren Sie die grundlegenden Fakten über die Geschichte des Ortes\, seiner Opfer aus aller Welt\, die während des Zweiten Weltkireges in Görlitz und Umgebung durch Arbeit ausgebeutet wurden\, sowie über das gesamte System der Kriegsgefangenenlager im Dritten Reich. Außerdem erhalten Sie einen Einblick in die Vermittlungsarbeit der deutsch-polnischen Gedenkstätte\, ihrer Forschung\, zukünftige Projektvorhaben und weiterführende Ausstellungen. \nDie Führungen bieten wir auch auf Polnisch an. \nDes Weiteren finden Führungen auch im Kontext bestimmter Veranstaltungen (Bsp. „Vogelstimmen auf der Spur“) statt. \nFührungen auf dem Gelände des ehemaligen Stalag VIII A und im Gebäude des Zentrums sind grundsätzlich immer möglich. \nZusätzlich bieten wir auch für Gruppen ein Grablicht zum Gedenken  für 5\,00€ pro Licht an. \nTermine 2024 (Start jeweils um 11:00 Uhr): \n11.08.2024 DE\n08.09.2024 DE\n22.09.2024 PL \nAnfahrt: Europejskie Centrum Pamięć\, Edukacja\, Kultura\nKoźlice 1 | 59-900 Zgorzelec /Gedenkstätte Stalag VIII A \nDie Tickets können Sie im Büro der Görlitz Information erstehen. Die öffentlichen Führungen finden auf Deutsch statt. Preis pro Person: 10\,00 €. \nAnmeldung
URL:https://www.meetingpoint-memory-messiaen.eu/event/fuehrung-durch-die-gedenkstaette-stalag-viii-a-5/
LOCATION:Stalag VIII A\, Koźlice 1\, Zgorzelec\, Dolnośląskie\, 59-900\, Polen
CATEGORIES:Führung
ATTACH;FMTTYPE=image/jpeg:https://www.meetingpoint-memory-messiaen.eu/wp-content/uploads/2023/05/zwiedzanie.jpg
ORGANIZER;CN="Meetingpoint Memory Messiaen e.V.":MAILTO:info@meetingpointmm.eu
END:VEVENT
BEGIN:VEVENT
DTSTART;TZID=Europe/Berlin:20240831T110000
DTEND;TZID=Europe/Berlin:20240831T140000
DTSTAMP:20260422T140807
CREATED:20240820T123357Z
LAST-MODIFIED:20240820T123426Z
UID:21946-1725102000-1725112800@www.meetingpoint-memory-messiaen.eu
SUMMARY:4 von 420.000: Schicksale polnischer und polnisch-jüdischer Gefangener des Stalag VIII A
DESCRIPTION:Wir laden Sie zu einem Vortrag des Historikers Antonius Schanderwitz ein\, der aus Anlass des Jahrestages des deutschen \nÜberfalls auf Polen am 1. September 1939 über das Schicksal polnischer und jüdischer Kriegsgefangener des Stalag VIII A Görlitz sprechen wird. \nDer Vortrag findet am 31.08.2024 um 11:00 Uhr im Gleis 1 im Bahnhof Görlitz statt. \nDer Eintritt ist frei. \n\n\n\n\n\nŁadysław Tarnowski\, Eugeniusz Gajda\, Benzion Ahl und Josef Reźnik – vier Namen polnischer Soldaten\, die zusammen mit mehr als 420.000 anderen polnischen Soldaten im September 1939 infolge des deutschen Angriffs auf Polen in deutsche Kriegsgefangenschaft gerieten. Die Namen von vier Menschen\, deren Schicksale während des Krieges zum Teil völlig unterschiedlich waren\, von jahrelanger schwerer Arbeit bis zur Entlassung aus der Kriegsgefangenschaft und den damit verbundenen Konsequenzen. Trotz ihrer unterschiedlichen Schicksale eint sie die Tatsache\, dass alle vier Kriegsgefangene im Stalag VIII A Görlitz waren. Aus Anlass des 85. Jahrestages des deutschen Überfalls auf Polen beleuchtet der Vortrag des Historikers Antonius Schanderwitz am Beispiel ihrer Geschichten verschiedene Facetten der Kriegsgefangenschaft und der damit verbundenen Folgen für betroffene polnische Soldaten. Organisiert wird die Veranstaltung von den Görlitzer Vereinen Meetingpoint Memory Messiaen e.V. /Gedenkstätte Stalag VIII A und Ideenfluss e.V. \n  \nAntonius Schanderwitz\, M.A.\, geboren 1979 in Bielefeld\, ist mit der Gedenkstätte Stalag 326 (VI K) Senne assoziiert und forscht seit langem zur Geschichte von polnischen Kriegsgefangenen im Zweiten Weltkrieg.
URL:https://www.meetingpoint-memory-messiaen.eu/event/4-von-420-000-schicksale-polnischer-und-polnisch-juedischer-gefangener-des-stalag-viii-a/
LOCATION:Bahnhof Görlitz\, Bahnhofstr. 76\, Görlitz\, Deutschland
CATEGORIES:Vortrag
ATTACH;FMTTYPE=image/jpeg:https://www.meetingpoint-memory-messiaen.eu/wp-content/uploads/2024/08/Vortrag_31.08.jpg
ORGANIZER;CN="Meetingpoint Memory Messiaen e.V.":MAILTO:info@meetingpointmm.eu
END:VEVENT
END:VCALENDAR