BEGIN:VCALENDAR
VERSION:2.0
PRODID:-//Meetingpoint Memory Messiaen e.V. - ECPv6.15.15//NONSGML v1.0//EN
CALSCALE:GREGORIAN
METHOD:PUBLISH
X-WR-CALNAME:Meetingpoint Memory Messiaen e.V.
X-ORIGINAL-URL:https://www.meetingpoint-memory-messiaen.eu
X-WR-CALDESC:Veranstaltungen für Meetingpoint Memory Messiaen e.V.
REFRESH-INTERVAL;VALUE=DURATION:PT1H
X-Robots-Tag:noindex
X-PUBLISHED-TTL:PT1H
BEGIN:VTIMEZONE
TZID:Europe/Berlin
BEGIN:DAYLIGHT
TZOFFSETFROM:+0100
TZOFFSETTO:+0200
TZNAME:CEST
DTSTART:20250330T010000
END:DAYLIGHT
BEGIN:STANDARD
TZOFFSETFROM:+0200
TZOFFSETTO:+0100
TZNAME:CET
DTSTART:20251026T010000
END:STANDARD
BEGIN:DAYLIGHT
TZOFFSETFROM:+0100
TZOFFSETTO:+0200
TZNAME:CEST
DTSTART:20260329T010000
END:DAYLIGHT
BEGIN:STANDARD
TZOFFSETFROM:+0200
TZOFFSETTO:+0100
TZNAME:CET
DTSTART:20261025T010000
END:STANDARD
BEGIN:DAYLIGHT
TZOFFSETFROM:+0100
TZOFFSETTO:+0200
TZNAME:CEST
DTSTART:20270328T010000
END:DAYLIGHT
BEGIN:STANDARD
TZOFFSETFROM:+0200
TZOFFSETTO:+0100
TZNAME:CET
DTSTART:20271031T010000
END:STANDARD
END:VTIMEZONE
BEGIN:VEVENT
DTSTART;TZID=Europe/Berlin:20260501T140000
DTEND;TZID=Europe/Berlin:20260501T200000
DTSTAMP:20260421T121105
CREATED:20260224T135346Z
LAST-MODIFIED:20260224T135346Z
UID:23252-1777644000-1777665600@www.meetingpoint-memory-messiaen.eu
SUMMARY:Ausstellung mit Soprano Konzert: Pop-Up-Exhibition in der Görlitzer Altstadt
DESCRIPTION:Zu Beginn der Messiaen-Tage bekommt das Görlitzer Stadtpublikum die besondere Gelegenheit\, das Festival und seine Veranstalter:innen\, im Rahmen der Pop-Up-Ausstellung mitten in der Görlitzer Altstadt kennenzulernen. \nBesucher:innen sind eingeladen\, spontan mit Beteiligten des Festivals in Kontakt zu treten\, Fragen zu stellen und Einblicke in die Messiaen-Tage zu gewinnen\, während die Ausstellung selbst Hintergründe zum Festival selbst\, der Person Messiaen und zur Gefangenschaft im Stalag VIII A Görlitz liefert. \nZwischen Ausstellung und Performance entsteht ein Raum der Begegnung\, in dem sich das Publikum frei bewegen\, entdecken und ins Gespräch kommen kann. \nBegleitet wird dieses offene Format von 16.30 bis 17.30 Uhr von der Sopranistin Catie Leigh Laszewski\, deren Auftritt der Ausstellung eine musikalische Dimension verleiht. \nIn einem Konzert für Solosopran interpretiert sie ausgewählte Werke von Olivier Messiaen sowie weitere Kompositionen\, um das Publikum bereits zu Beginn der Messiaen-Tage mit dem Klang von Messiaen in der Stadt vertraut zu machen. Dieses Konzert entsteht aus der langjährigen Kooperation des Meetingpoints Memory Messiaen mit der EuropaChorAkademie Görlitz.
URL:https://www.meetingpoint-memory-messiaen.eu/event/ausstellung-mit-soprano-konzert-pop-up-exhibition-in-der-goerlitzer-altstadt/
LOCATION:Görlitzer Altstadt\, Untermarkt\, Görlitz\, 02826\, Germany
CATEGORIES:Ausstellung
ATTACH;FMTTYPE=image/jpeg:https://www.meetingpoint-memory-messiaen.eu/wp-content/uploads/2026/02/Untitled-design-41.jpg
ORGANIZER;CN="Meetingpoint Memory Messiaen e.V.":MAILTO:info@meetingpointmm.eu
END:VEVENT
BEGIN:VEVENT
DTSTART;TZID=Europe/Berlin:20260501T190000
DTEND;TZID=Europe/Berlin:20260501T200000
DTSTAMP:20260421T121105
CREATED:20260224T130617Z
LAST-MODIFIED:20260224T130806Z
UID:23246-1777662000-1777665600@www.meetingpoint-memory-messiaen.eu
SUMMARY:Konzert Live-Act: Messiaen revisited
DESCRIPTION:Konzert \nEnsemble Écoute und junge Musizierende \nIm Rahmen des Eröffnungskonzerts der Messiaen Tage im Mai tritt das Pariser Ensemble Écoute gemeinsam mit zwölf jungen Musikerinnen und Musikern aus Polen\, Deutschland und Frankreich auf. Das Konzert findet auf dem Gelände des ehemaligen Kriegsgefangenenlagers Stalag VIII A statt — an jenem Ort\, an dem vor 85 Jahren erstmals Quartett auf das Ende der Zeit aufgeführt wurde. \nAuf dem Programm stehen J.D.E. von Betsy Jolas\, präsentiert anlässlich ihres 100. Geburtstags\, sowie At First Light von George Benjamin. Ergänzt wird dies durch drei neue Werke der jungen Komponisten Guilherme Araujo\, Davide Rizza und Michał Kulbacki. Verbindendes Element des Abends ist die gemeinsame Bezugslinie zu Olivier Messiaen: Sowohl Betsy Jolas als auch George Benjamin waren seine Schüler. Das Konzert stellt so Messiaens Erbe in einen Dialog mit den Stimmen einer neuen Generation europäischer Komponisten. \nEnsemble Écoute \nEnsemble Écoute ist ein Ensemble für zeitgenössische Musik\, das sich auf die Schaffung und Verbreitung von Werken junger Komponist:innen konzentriert. Das Ensemble zeichnet sich durch multidisziplinäre Aufführungen aus\, die das Publikum dazu anregen sollen\, zeitgenössische Musik auf neuen Wegen zu entdecken. Es tritt als regelmäßiger Gast bei Festivals auf und veröffentlichte bereits von der Fachpresse gefeierte Aufnahmen. Seit Juli 2024 ist das Ensemble Écoute Resident der Singer-Polignac-Stiftung. Die künstlerische Leitung liegt bei Fernando Palomeque. \nFernando Palomeque \nAls Dirigent und Pianist ist er einer der renommiertesten argentinischen Musiker seiner Generation. Sein Repertoire reicht vom Barock bis zu seinem Schwerpunkt\, der zeitgenössischen Musik. Er studierte in Düsseldorf und Paris\, spezialisierte sich in Straßburg und war Teil des Projekts Young Promising Conductors. Auftritte führten ihn an bedeutende Veranstaltungsorte weltweit\, u. a. in das Kennedy Center in Washington\, D.C.\, in das Teatro Colón in Buenos Aires und das Maison de la Radio in Paris. \nAlle Programmpunkte finden auf Deutsch und Polnisch statt. Für organisierte Gruppen sind Sonderkonditionen nach vorheriger Absprache möglich. Die Abendkasse öffnet jeweils 30 Minuten vor Konzertbeginn. \n* Ermäßigungen gelten fürSchüler:innen\, Studierende\, ALG-Empfänger:innen\, Schwerbeschädigte\, Freiwilligendienstleistende und Ehrenamtskarteninhaber:innen. (Der Nachweis zur Inanspruchnahme der Ermäßigung wird am Einlass kontrolliert. Bitte bringen Sie das jeweilige Ausweisdokument mit zur Veranstaltung. Kann der Nachweis am Einlass nicht erbracht werden ist vor Einlass die Differenz zum Normalpreis zu zahlen.) \n 
URL:https://www.meetingpoint-memory-messiaen.eu/event/konzert-live-act-messiaen-revisited/
LOCATION:Europäisches Zentrum Erinnerung\, Bildung\, Kultur\, ul. Jeńców Stalagu VIII A 1\, Koźlice - Zgorzelec PL\, 59-900\, Polen
CATEGORIES:Konzert
ATTACH;FMTTYPE=image/jpeg:https://www.meetingpoint-memory-messiaen.eu/wp-content/uploads/2026/02/Konzert_01.05.2026_MT.jpg
ORGANIZER;CN="Meetingpoint Memory Messiaen e.V.":MAILTO:info@meetingpointmm.eu
END:VEVENT
BEGIN:VEVENT
DTSTART;TZID=Europe/Berlin:20260502T110000
DTEND;TZID=Europe/Berlin:20260502T120000
DTSTAMP:20260421T121105
CREATED:20260224T141839Z
LAST-MODIFIED:20260224T141839Z
UID:23259-1777719600-1777723200@www.meetingpoint-memory-messiaen.eu
SUMMARY:Führung: Musik gegen die Zeit - Messiaens Quartett in Kriegsgefangenschaft
DESCRIPTION:Diese außergewöhnliche Führung verbindet historische Forschung mit musikalischer Reflexion. Der Historiker Dr. Johannes Bent und die Musikwissenschaftlerin Dr. Katarzyna Bartos führen durch die Gedenkstätte Stalag VIII A und beleuchten Olivier Messiaens Zeit im Lager sowie die Entstehung seines Quartetts auf das Ende der Zeit. Dabei wird sowohl auf die historische Perspektive\, die Klanglandschaft des Ortes und die Betrachtung der Musik geachtet\, um einen neuen Blick auf die Bedingungen der Gefangenschaft und auf die Kunst\, die an diesem Ort entstand\, zu entwickeln.
URL:https://www.meetingpoint-memory-messiaen.eu/event/fuehrung-musik-gegen-die-zeit-messiaens-quartett-in-kriegsgefangenschaft/
LOCATION:Stalag VIII A\, Koźlice 1\, Zgorzelec\, Dolnośląskie\, 59-900\, Polen
CATEGORIES:Führung
ATTACH;FMTTYPE=image/png:https://www.meetingpoint-memory-messiaen.eu/wp-content/uploads/2026/02/Untitled-design-8.png
ORGANIZER;CN="Meetingpoint Memory Messiaen e.V.":MAILTO:info@meetingpointmm.eu
END:VEVENT
BEGIN:VEVENT
DTSTART;TZID=Europe/Berlin:20260502T150000
DTEND;TZID=Europe/Berlin:20260502T170000
DTSTAMP:20260421T121105
CREATED:20260224T142948Z
LAST-MODIFIED:20260224T142948Z
UID:23262-1777734000-1777741200@www.meetingpoint-memory-messiaen.eu
SUMMARY:Podiumsdiskussion: Zwischen Tradition und Avantgarde - Messiaens Werk und heutige Musik
DESCRIPTION:In einem besonderen Gespräch begegnen sich die Erinnerung an Olivier Messiaen und eine musikalische Spurensuche: Prof. Grażyna Pstrokońska Nawratil\, weltweit bekannte Komponistin und ehemalige Studentin bei Olivier Messiaen\, teilt ihre Erinnerungen an den französischen Meister. Darüber spricht sie mit Dr. Katarzyna Bartos\, Musikwissenschaftlerin und Expertin für zeitgenössische Musik und besonders auch für das Werk von Messiaen und Pstrokońska-Nawratil. Gemeinsam mit dem Komponisten Dr. hab. Adam Porębski\, der das Podiumsgespräch moderieren wird\, erkunden sie die Musik der Gegenwart – auf analytischer\, kultureller und zeitgeschichtlicher Ebene.
URL:https://www.meetingpoint-memory-messiaen.eu/event/podiumsdiskussion-zwischen-tradition-und-avantgarde-messiaens-werk-und-heutige-musik/
LOCATION:Miejski Dom Kultury\, Zgorzelec\, Parkowa 1\, Zgorcelec\, 59-900\, Poland
CATEGORIES:Podiumsdiskussion
ATTACH;FMTTYPE=image/jpeg:https://www.meetingpoint-memory-messiaen.eu/wp-content/uploads/2026/02/Untitled-design-42.jpg
ORGANIZER;CN="Meetingpoint Memory Messiaen e.V.":MAILTO:info@meetingpointmm.eu
END:VEVENT
BEGIN:VEVENT
DTSTART;TZID=Europe/Berlin:20260502T190000
DTEND;TZID=Europe/Berlin:20260502T203000
DTSTAMP:20260421T121105
CREATED:20260224T144302Z
LAST-MODIFIED:20260224T144302Z
UID:23267-1777748400-1777753800@www.meetingpoint-memory-messiaen.eu
SUMMARY:Konzert: Klangräume - ein kammermusikalischer Liederabend
DESCRIPTION:Die Messiaen-Tage arbeiten seit Jahren in einer engen Partnerschaft mit der EuropaChorAkademie Görlitz und dem Ensemble Écoute aus Paris zusammen. Dieser gemeinsame Abend soll die Wichtigkeit dieser Kooperation unterstreichen und eine intime Erfahrung der vokalen Kammermusik bieten. Im Ambiente des Ständehauses werden Werke für Kammermusikensemble präsentiert\, die dem Publikum in verschiedener Weise Raum zur Introspektion\, Nähe und neue Hörerfahrungen bieten.
URL:https://www.meetingpoint-memory-messiaen.eu/event/konzert-klangraeume-ein-kammermusikalischer-liederabend/
LOCATION:Ständehaus\, Dr.-Kahlbaum-Allee 31\, Görlitz\, 02826\, Germany
CATEGORIES:Konzert
ATTACH;FMTTYPE=image/png:https://www.meetingpoint-memory-messiaen.eu/wp-content/uploads/2026/02/Untitled-design-9.png
ORGANIZER;CN="Meetingpoint Memory Messiaen e.V.":MAILTO:info@meetingpointmm.eu
END:VEVENT
BEGIN:VEVENT
DTSTART;TZID=Europe/Berlin:20260503T110000
DTEND;TZID=Europe/Berlin:20260503T130000
DTSTAMP:20260421T121105
CREATED:20260224T145717Z
LAST-MODIFIED:20260224T145717Z
UID:23272-1777806000-1777813200@www.meetingpoint-memory-messiaen.eu
SUMMARY:Fahrradtour: NS-Zwangsarbeit in Görlitz
DESCRIPTION:Die Europastadt Görlitz-Zgorzelec ist in vielerlei Hinsicht einzigartig\, so auch in der eigenen deutsch-polnischen Aufarbeitung der Geschichte der Stadt als Gewaltort zur Zeit des NS Regimes. Neben dem Kriegsgefangenenlager Stalag VIII A finden sich Spuren der Gewalt auch im Stadtgebiet von Görlitz – der Zwangsarbeit\, die von Menschen\, sowohl Gefangene als auch Zivilist:innen\, hier verrichtet wurde. Wer war in Görlitz von Zwangsarbeit betroffen – und was wissen wir heute über ihre jeweils spezifischen Lebens- und Arbeitsbedingungen? Bei einer Führung in Form einer Fahrradtour zeigt Alexandra Grochowski\, Geschäftsleiterin des Meetingpoint Memory Messiaen e.V.\, den Teilnehmenden einige Orte der Zwangsarbeit und setzt sie in den Kontext des neusten Forschungsstandes.
URL:https://www.meetingpoint-memory-messiaen.eu/event/fahrradtour-ns-zwangsarbeit-in-goerlitz/
LOCATION:Vorplatz des ehem. Güterbahnhofs (jetzt Freie Waldorfschule)\, Bahnhofstraße 80\, Görlitz\, 02826\, Germany
CATEGORIES:Führung
ATTACH;FMTTYPE=image/jpeg:https://www.meetingpoint-memory-messiaen.eu/wp-content/uploads/2026/02/Untitled-design-43.jpg
ORGANIZER;CN="Meetingpoint Memory Messiaen e.V.":MAILTO:info@meetingpointmm.eu
END:VEVENT
BEGIN:VEVENT
DTSTART;TZID=Europe/Berlin:20260503T140000
DTEND;TZID=Europe/Berlin:20260503T153000
DTSTAMP:20260421T121105
CREATED:20260225T092952Z
LAST-MODIFIED:20260225T093959Z
UID:23279-1777816800-1777822200@www.meetingpoint-memory-messiaen.eu
SUMMARY:Werkstattgespräch: Stand der Forschung zum Stalag VIII A
DESCRIPTION:Fast täglich erreichen den Meetingpoint Nachrichten von Familien ehemaliger Kriegsgefangener des Stalag VIII A\, die auf der Suche nach Informationen über die Haftzeit ihrer Angehörigen sind oder selbst Informationen liefern. Der Austausch besonders mit den Nachfahr:innen französischer und belgischer Gefangener zeugt eindrücklich von den Nachwirkungen des Stalag VIII A Görlitz und seiner anhaltenden Bedeutung als Erinnerungsort im Gedächtnis vieler Familien. Dr. Johannes Bent gibt in einem Werkstattgespräch Einblick in aktuelle Aktivitäten des Meetingpoints hinsichtlich der Weitervermessung des Stalag VIII A als Gewalt- und Erinnerungsort. Die Veranstaltung gibt dabei auch Raum für den offenen Austausch über Perspektiven der Forschung und Erinnerung.
URL:https://www.meetingpoint-memory-messiaen.eu/event/werkstattgespraech-stand-der-forschung-zum-stalag-viii-a/
LOCATION:Schlesisches Museum zu Görlitz\, Brüderstraße 8\, Görlitz\, 02826\, Germany
CATEGORIES:Werkstattgespräch
ATTACH;FMTTYPE=image/jpeg:https://www.meetingpoint-memory-messiaen.eu/wp-content/uploads/2026/02/Untitled-design-45.jpg
ORGANIZER;CN="Meetingpoint Memory Messiaen e.V.":MAILTO:info@meetingpointmm.eu
END:VEVENT
BEGIN:VEVENT
DTSTART;TZID=Europe/Berlin:20260503T170000
DTEND;TZID=Europe/Berlin:20260503T190000
DTSTAMP:20260421T121105
CREATED:20260225T093846Z
LAST-MODIFIED:20260225T093846Z
UID:23284-1777827600-1777834800@www.meetingpoint-memory-messiaen.eu
SUMMARY:Konzert: Displaced Persons: entwurzelt\, vertrieben – Heimat allein im Sehnsuchtsort MUSIK
DESCRIPTION:Unter der Leitung von Milko Kersten führt Sinfonietta Dresden Kompositionen auf\, die Gefahr laufen\, dem kollektiven Gedächtnis zu entschwinden. Dies betrifft z. B. die jüdischen Komponistinnen Vítězslava Kaprálová und Rosy Wertheim. Für Menschen\, die von Krieg\, Vertreibung und kultureller Entwurzelung betroffen sind\, kann Musik Sehnsuchtsort und Zuflucht sein. Sie ist immer Teil humaner Sinnstiftung. So heißt Verantwortung wahrzunehmen immer auch Hinschauen\, Zuhören\, Benennen und Empathie entwickeln. \nVolker Sondermann wird zum Zyklus-Thema neu komponieren und mit einem Stück des israelisch-palästinensischen Komponisten Samir Odeh-Tamimi einen Rahmen bilden. Dresdens Stadtschreiber 2025\, Alexander Estis\, liest Texte\, die er eigens für diese Konzerte mit den Musiker:innen als poetische Klang-Sprache entwickelt.
URL:https://www.meetingpoint-memory-messiaen.eu/event/konzert-displaced-persons-entwurzelt-vertrieben-heimat-allein-im-sehnsuchtsort-musik/
LOCATION:Kulturforum Görlitzer Synagoge Otto-Müller-Straße 3\, 02826 Görlitz
CATEGORIES:Konzert
ATTACH;FMTTYPE=image/jpeg:https://www.meetingpoint-memory-messiaen.eu/wp-content/uploads/2026/02/Untitled-design-44.jpg
ORGANIZER;CN="Meetingpoint Memory Messiaen e.V.":MAILTO:info@meetingpointmm.eu
END:VEVENT
END:VCALENDAR