BEGIN:VCALENDAR
VERSION:2.0
PRODID:-//Meetingpoint Memory Messiaen e.V. - ECPv6.15.15//NONSGML v1.0//EN
CALSCALE:GREGORIAN
METHOD:PUBLISH
X-ORIGINAL-URL:https://www.meetingpoint-memory-messiaen.eu
X-WR-CALDESC:Veranstaltungen für Meetingpoint Memory Messiaen e.V.
REFRESH-INTERVAL;VALUE=DURATION:PT1H
X-Robots-Tag:noindex
X-PUBLISHED-TTL:PT1H
BEGIN:VTIMEZONE
TZID:Europe/Berlin
BEGIN:DAYLIGHT
TZOFFSETFROM:+0100
TZOFFSETTO:+0200
TZNAME:CEST
DTSTART:20240331T010000
END:DAYLIGHT
BEGIN:STANDARD
TZOFFSETFROM:+0200
TZOFFSETTO:+0100
TZNAME:CET
DTSTART:20241027T010000
END:STANDARD
BEGIN:DAYLIGHT
TZOFFSETFROM:+0100
TZOFFSETTO:+0200
TZNAME:CEST
DTSTART:20250330T010000
END:DAYLIGHT
BEGIN:STANDARD
TZOFFSETFROM:+0200
TZOFFSETTO:+0100
TZNAME:CET
DTSTART:20251026T010000
END:STANDARD
BEGIN:DAYLIGHT
TZOFFSETFROM:+0100
TZOFFSETTO:+0200
TZNAME:CEST
DTSTART:20260329T010000
END:DAYLIGHT
BEGIN:STANDARD
TZOFFSETFROM:+0200
TZOFFSETTO:+0100
TZNAME:CET
DTSTART:20261025T010000
END:STANDARD
END:VTIMEZONE
BEGIN:VEVENT
DTSTART;VALUE=DATE:20250511
DTEND;VALUE=DATE:20251003
DTSTAMP:20260422T010655
CREATED:20240814T115626Z
LAST-MODIFIED:20250411T102422Z
UID:21932-1746921600-1759449599@www.meetingpoint-memory-messiaen.eu
SUMMARY:FÜHRUNGEN DURCH DIE GEDENKSTÄTTE STALAG VIII A
DESCRIPTION:Eine Führung dauert 1 bis 1\,5 Stunden und kostet 10 €* pro Person. Während dieser erfahren Sie die grundlegenden Fakten über die Geschichte des Ortes\, seiner Opfer aus aller Welt\, die während des Zweiten Weltkiregs in Görlitz und Umgebung durch Arbeit ausgebeutet wurden\, sowie über das gesamte System der Kriegsgefangenenlager im Dritten Reich. Außerdem erhalten Sie einen Einblick in die Vermittlungsarbeit der deutsch-polnischen Gedenkstätte\, ihrer Forschung\, zukünftige Projektvorhaben und weiterführende Ausstellungen. \nDie Führungen bieten wir auch auf Polnisch an. \nDes Weiteren finden Führungen auch im Kontext bestimmter Veranstaltungen (Bsp. „Vogelstimmen auf der Spur“) statt. \nFührungen auf dem Gelände des ehemaligen Stalag VIII A und im Gebäude des Zentrums sind grundsätzlich immer möglich. \nZusätzlich bieten wir auch für Gruppen ein Grablicht zum Gedenken für 5\,00€ pro Licht an. \nTermine 2025 (Start jeweils um 11:00 Uhr): \n11.05.2025 Öffentliche Führung Deutsch\n08.06.2025 Öffentliche Führung Deutsch\n06.07.2025 Öffentliche Führung Polnisch\n13.07.2025 Öffentliche Führung Deutsch\n10.08.2025 Öffentliche Führung Deutsch\n07.09.2025 Öffentliche Führung Deutsch\n14.09.2024 Öffentliche Führung Polnisch\n02.10.2025 Öffentliche Führung Deutsch \nAnfahrt: Europejskie Centrum Pamięć\, Edukacja\, Kultura\nul. Jeńców Stalagu VIII A 1\, Koźlice\, 59-900 Zgorzelec Polska – Gedenkstätte Stalag VIII A \nDie Tickets können Sie im Büro der Görlitz Information erstehen. Die öffentlichen Führungen finden auf Deutsch statt. Preis pro Person: 10\,00 €. \nAnmeldung
URL:https://www.meetingpoint-memory-messiaen.eu/event/fuehrung-durch-die-gedenkstaette-stalag-viii-a-7/
LOCATION:Stalag VIII A\, Koźlice 1\, Zgorzelec\, Dolnośląskie\, 59-900\, Polen
CATEGORIES:Führung
ATTACH;FMTTYPE=image/jpeg:https://www.meetingpoint-memory-messiaen.eu/wp-content/uploads/2023/05/zwiedzanie.jpg
ORGANIZER;CN="Meetingpoint Memory Messiaen e.V.":MAILTO:info@meetingpointmm.eu
END:VEVENT
BEGIN:VEVENT
DTSTART;TZID=Europe/Berlin:20250701T100000
DTEND;TZID=Europe/Berlin:20250710T163000
DTSTAMP:20260422T010655
CREATED:20240204T125513Z
LAST-MODIFIED:20240304T125613Z
UID:21384-1751364000-1752165000@www.meetingpoint-memory-messiaen.eu
SUMMARY:Kindermiasto Zgorlitz 2025
DESCRIPTION:Im Jahr 2025 wird die Kindermiasto vom 01.07-04.07. und 07.07.-10.07. stattfinden. Aller Voraussicht nach in Görlitz. \nDie Kindermiasto Zgorlitz* ist ein Großspielprojekt\, welches sich an dem pädagogischen Konzept von Kinderstädten orientiert. Es findet alle zwei Jahre während der Sommerferien in Polen und Deutschl and statt. Alle Kinder zwischen 7 und 14 Jahren sind zur Teilnahme eingeladen. \nWeitere Infos folgen in Kürze.
URL:https://www.meetingpoint-memory-messiaen.eu/event/kindermiasto-zgorlitz-2025/
ATTACH;FMTTYPE=image/jpeg:https://www.meetingpoint-memory-messiaen.eu/wp-content/uploads/2024/03/Kimi25-P.jpg
END:VEVENT
END:VCALENDAR