BEGIN:VCALENDAR
VERSION:2.0
PRODID:-//Meetingpoint Memory Messiaen e.V. - ECPv6.15.15//NONSGML v1.0//EN
CALSCALE:GREGORIAN
METHOD:PUBLISH
X-ORIGINAL-URL:https://www.meetingpoint-memory-messiaen.eu
X-WR-CALDESC:Veranstaltungen für Meetingpoint Memory Messiaen e.V.
REFRESH-INTERVAL;VALUE=DURATION:PT1H
X-Robots-Tag:noindex
X-PUBLISHED-TTL:PT1H
BEGIN:VTIMEZONE
TZID:Europe/Berlin
BEGIN:DAYLIGHT
TZOFFSETFROM:+0100
TZOFFSETTO:+0200
TZNAME:CEST
DTSTART:20240331T010000
END:DAYLIGHT
BEGIN:STANDARD
TZOFFSETFROM:+0200
TZOFFSETTO:+0100
TZNAME:CET
DTSTART:20241027T010000
END:STANDARD
BEGIN:DAYLIGHT
TZOFFSETFROM:+0100
TZOFFSETTO:+0200
TZNAME:CEST
DTSTART:20250330T010000
END:DAYLIGHT
BEGIN:STANDARD
TZOFFSETFROM:+0200
TZOFFSETTO:+0100
TZNAME:CET
DTSTART:20251026T010000
END:STANDARD
BEGIN:DAYLIGHT
TZOFFSETFROM:+0100
TZOFFSETTO:+0200
TZNAME:CEST
DTSTART:20260329T010000
END:DAYLIGHT
BEGIN:STANDARD
TZOFFSETFROM:+0200
TZOFFSETTO:+0100
TZNAME:CET
DTSTART:20261025T010000
END:STANDARD
END:VTIMEZONE
BEGIN:VEVENT
DTSTART;VALUE=DATE:20250414
DTEND;VALUE=DATE:20250509
DTSTAMP:20260422T050219
CREATED:20250411T103011Z
LAST-MODIFIED:20250411T103157Z
UID:22613-1744588800-1746748799@www.meetingpoint-memory-messiaen.eu
SUMMARY:REMEMBERING MEANS [RE]ACTING! 80 Jahre Befreiung des Stalag VIII A
DESCRIPTION:Virtuelles Gedenken – REMEMBERING MEANS [RE]ACTING \nAb 2025 lädt der Meetingpoint Memory Messiaen e.V. jährlich zum virtuellen Gedenken ein. Ziel ist es\, Menschen aus verschiedenen Ländern zusammenzubringen\, um gemeinsam an die Vergangenheit zu erinnern und ein Zeichen für eine offene\, demokratische Gesellschaft zu setzen. \nAlle Interessierten sind eingeladen\, sich mit einem kurzen Video- oder Textbeitrag zu beteiligen. Die Beiträge werden rund um den 8. Mai auf den Online-Kanälen des Vereins veröffentlicht.
URL:https://www.meetingpoint-memory-messiaen.eu/event/remembering-means-reacting-80-jahre-befreiung-des-stalag-viii-a/
ATTACH;FMTTYPE=image/png:https://www.meetingpoint-memory-messiaen.eu/wp-content/uploads/2025/04/VIRTUELLES-GEDENKEN.png
END:VEVENT
BEGIN:VEVENT
DTSTART;VALUE=DATE:20250419
DTEND;VALUE=DATE:20250420
DTSTAMP:20260422T050219
CREATED:20241007T105642Z
LAST-MODIFIED:20241007T105642Z
UID:22091-1745020800-1745107199@www.meetingpoint-memory-messiaen.eu
SUMMARY:Bildungsaktion Narzissen
DESCRIPTION:Jugendliche gedenken des Aufstands im Warschauer Ghetto \nZum Anlass des 82. Jahrestages des Aufstandes im Warschauer Ghetto beteiligen sich der Verein Meetingpoint Memory Messiaen e.V. zusammen mit der Stiftung Erinnerung\, Bildung\, Kultur an der zwölften Edition der Sozial- und Bildungsaktion Narzissen. \nIm Rahmen des Jahrestages am 19.04.2025 wollen die Organisatoren gemeinsam mit Jugendlichen aus Polen und Deutschland Papiernarzissen basteln\, die ein Symbol des kollektiven Gedenkens sind. Die Herstellung der Papierblumen wird von einem historischen Abriss der Ereignisse begleitet. Verteilt werden die gebastelten Blumen im Rahmen eines Spaziergangs durch die Europastadt an die Einwohner von Görlitz und Zgorzelec.
URL:https://www.meetingpoint-memory-messiaen.eu/event/bildungsaktion-narzissen/
CATEGORIES:Gedenkveranstaltung
ATTACH;FMTTYPE=image/jpeg:https://www.meetingpoint-memory-messiaen.eu/wp-content/uploads/2024/03/Zonkile.jpg
END:VEVENT
END:VCALENDAR