BEGIN:VCALENDAR
VERSION:2.0
PRODID:-//Meetingpoint Memory Messiaen e.V. - ECPv6.15.15//NONSGML v1.0//EN
CALSCALE:GREGORIAN
METHOD:PUBLISH
X-ORIGINAL-URL:https://www.meetingpoint-memory-messiaen.eu
X-WR-CALDESC:Veranstaltungen für Meetingpoint Memory Messiaen e.V.
REFRESH-INTERVAL;VALUE=DURATION:PT1H
X-Robots-Tag:noindex
X-PUBLISHED-TTL:PT1H
BEGIN:VTIMEZONE
TZID:Europe/Berlin
BEGIN:DAYLIGHT
TZOFFSETFROM:+0100
TZOFFSETTO:+0200
TZNAME:CEST
DTSTART:20240331T010000
END:DAYLIGHT
BEGIN:STANDARD
TZOFFSETFROM:+0200
TZOFFSETTO:+0100
TZNAME:CET
DTSTART:20241027T010000
END:STANDARD
BEGIN:DAYLIGHT
TZOFFSETFROM:+0100
TZOFFSETTO:+0200
TZNAME:CEST
DTSTART:20250330T010000
END:DAYLIGHT
BEGIN:STANDARD
TZOFFSETFROM:+0200
TZOFFSETTO:+0100
TZNAME:CET
DTSTART:20251026T010000
END:STANDARD
BEGIN:DAYLIGHT
TZOFFSETFROM:+0100
TZOFFSETTO:+0200
TZNAME:CEST
DTSTART:20260329T010000
END:DAYLIGHT
BEGIN:STANDARD
TZOFFSETFROM:+0200
TZOFFSETTO:+0100
TZNAME:CET
DTSTART:20261025T010000
END:STANDARD
END:VTIMEZONE
BEGIN:VEVENT
DTSTART;VALUE=DATE:20250314
DTEND;VALUE=DATE:20250331
DTSTAMP:20260422T061610
CREATED:20250107T113846Z
LAST-MODIFIED:20250107T114420Z
UID:22309-1741910400-1743379199@www.meetingpoint-memory-messiaen.eu
SUMMARY:Bildungsangebot Workshopleiter:innen politisch-historischer Bildung
DESCRIPTION:Wir laden Multiplikator:innen aus der Region ein\, an unserem Bildungsangebot teilzunehmen. Die Ausbildung umfasst ein 32-stündiges Seminar\, das sich über zwei Wochenenden erstreckt: 14.-16.03.2025 & 28.-30.03.2025. \nWährend des Seminars vermitteln wir nicht nur historisches Wissen und wissenschaftliche Grundlagen der historisch-politischen Bildung\, sondern auch praktische Methoden der internationalen Jugendarbeit. Themen wie „Politisch-historische Bildungsmethoden“\, „Geschichtsdidaktik“ und „Politische Verantwortung“ sind Teil des Programms. Das Programm findet auf Deutsch und Polnisch statt.
URL:https://www.meetingpoint-memory-messiaen.eu/event/bildungsangebot-workshopleiterinnen-politisch-historischer-bildung/
LOCATION:Europäisches Zentrum Erinnerung\, Bildung\, Kultur\, ul. Jeńców Stalagu VIII A 1\, Koźlice - Zgorzelec PL\, 59-900\, Polen
CATEGORIES:Workshop
ATTACH;FMTTYPE=image/png:https://www.meetingpoint-memory-messiaen.eu/wp-content/uploads/2024/09/WSLA-Stalag-VIII-A-1.png
ORGANIZER;CN="Meetingpoint Memory Messiaen e.V.":MAILTO:info@meetingpointmm.eu
END:VEVENT
END:VCALENDAR