BEGIN:VCALENDAR
VERSION:2.0
PRODID:-//Meetingpoint Memory Messiaen e.V. - ECPv6.15.15//NONSGML v1.0//EN
CALSCALE:GREGORIAN
METHOD:PUBLISH
X-WR-CALNAME:Meetingpoint Memory Messiaen e.V.
X-ORIGINAL-URL:https://www.meetingpoint-memory-messiaen.eu
X-WR-CALDESC:Veranstaltungen für Meetingpoint Memory Messiaen e.V.
REFRESH-INTERVAL;VALUE=DURATION:PT1H
X-Robots-Tag:noindex
X-PUBLISHED-TTL:PT1H
BEGIN:VTIMEZONE
TZID:Europe/Berlin
BEGIN:DAYLIGHT
TZOFFSETFROM:+0100
TZOFFSETTO:+0200
TZNAME:CEST
DTSTART:20230326T010000
END:DAYLIGHT
BEGIN:STANDARD
TZOFFSETFROM:+0200
TZOFFSETTO:+0100
TZNAME:CET
DTSTART:20231029T010000
END:STANDARD
BEGIN:DAYLIGHT
TZOFFSETFROM:+0100
TZOFFSETTO:+0200
TZNAME:CEST
DTSTART:20240331T010000
END:DAYLIGHT
BEGIN:STANDARD
TZOFFSETFROM:+0200
TZOFFSETTO:+0100
TZNAME:CET
DTSTART:20241027T010000
END:STANDARD
BEGIN:DAYLIGHT
TZOFFSETFROM:+0100
TZOFFSETTO:+0200
TZNAME:CEST
DTSTART:20250330T010000
END:DAYLIGHT
BEGIN:STANDARD
TZOFFSETFROM:+0200
TZOFFSETTO:+0100
TZNAME:CET
DTSTART:20251026T010000
END:STANDARD
END:VTIMEZONE
BEGIN:VEVENT
DTSTART;VALUE=DATE:20241101
DTEND;VALUE=DATE:20241102
DTSTAMP:20260422T105526
CREATED:20231117T124551Z
LAST-MODIFIED:20231117T124715Z
UID:21007-1730419200-1730505599@www.meetingpoint-memory-messiaen.eu
SUMMARY:Allerheiligen. Gedenken der Opfer des Nationalsozialismus und der Kriegsgefangenen im Stalag VIII A Görlitz
DESCRIPTION:Der 01. November ist ein Tag\, an dem der Verstorbenen gedacht wird. In Polen ist es ein sehr wichtiger Tag im Kanon der christlichen Feiertage. Am 01. November versammeln sich Familienangehörige an den Gräbern ihrer verstorbenen Liebsten und Erinnern sich im Stillen Gedenken oder Gebet an die Toten.\nUnzählige der Kriegsgefangenen die während des Zweiten Weltkrieges im Stalag VIII A gefangen gehalten wurden und das Lager nicht lebend verließen\, blieben Namenlos. Die\, deren Namen bekannt sind\, starben hunderte oder gar tausende Kilometer von ihrem Zuhause entfernt. Der Meetingpoint Memory Messiaen e.V. und die Stiftung Erinnerung\, Bildung\, Kultur gedenken dieser Soldaten und aller Opfer des Nationalsozialismus an diesem besonderen Tag\, auch im Namen derer\, die ihre Männer\, Väter\, Großväter im Kriegsgefangenenlager verloren haben.
URL:https://www.meetingpoint-memory-messiaen.eu/event/allerheiligen-gedenken-der-opfer-des-nationalsozialismus-und-der-kriegsgefangenen-im-stalag-viii-a-goerlitz/
LOCATION:Europäisches Zentrum Erinnerung\, Bildung\, Kultur\, ul. Jeńców Stalagu VIII A 1\, Koźlice - Zgorzelec PL\, 59-900\, Polen
ATTACH;FMTTYPE=image/jpeg:https://www.meetingpoint-memory-messiaen.eu/wp-content/uploads/2022/11/Allerheiligen3.jpg
ORGANIZER;CN="Meetingpoint Memory Messiaen e.V.":MAILTO:info@meetingpointmm.eu
END:VEVENT
END:VCALENDAR