BEGIN:VCALENDAR
VERSION:2.0
PRODID:-//Meetingpoint Memory Messiaen e.V. - ECPv6.15.15//NONSGML v1.0//EN
CALSCALE:GREGORIAN
METHOD:PUBLISH
X-WR-CALNAME:Meetingpoint Memory Messiaen e.V.
X-ORIGINAL-URL:https://www.meetingpoint-memory-messiaen.eu
X-WR-CALDESC:Veranstaltungen für Meetingpoint Memory Messiaen e.V.
REFRESH-INTERVAL;VALUE=DURATION:PT1H
X-Robots-Tag:noindex
X-PUBLISHED-TTL:PT1H
BEGIN:VTIMEZONE
TZID:Europe/Berlin
BEGIN:DAYLIGHT
TZOFFSETFROM:+0100
TZOFFSETTO:+0200
TZNAME:CEST
DTSTART:20230326T010000
END:DAYLIGHT
BEGIN:STANDARD
TZOFFSETFROM:+0200
TZOFFSETTO:+0100
TZNAME:CET
DTSTART:20231029T010000
END:STANDARD
BEGIN:DAYLIGHT
TZOFFSETFROM:+0100
TZOFFSETTO:+0200
TZNAME:CEST
DTSTART:20240331T010000
END:DAYLIGHT
BEGIN:STANDARD
TZOFFSETFROM:+0200
TZOFFSETTO:+0100
TZNAME:CET
DTSTART:20241027T010000
END:STANDARD
BEGIN:DAYLIGHT
TZOFFSETFROM:+0100
TZOFFSETTO:+0200
TZNAME:CEST
DTSTART:20250330T010000
END:DAYLIGHT
BEGIN:STANDARD
TZOFFSETFROM:+0200
TZOFFSETTO:+0100
TZNAME:CET
DTSTART:20251026T010000
END:STANDARD
END:VTIMEZONE
BEGIN:VEVENT
DTSTART;TZID=Europe/Berlin:20240922T110000
DTEND;TZID=Europe/Berlin:20240922T140000
DTSTAMP:20260422T140514
CREATED:20240504T202050Z
LAST-MODIFIED:20240504T202050Z
UID:21638-1727002800-1727013600@www.meetingpoint-memory-messiaen.eu
SUMMARY:FAHRRADTOUR “Orte des Verbrechens an Jüdinnen und Juden”
DESCRIPTION:In diesem Jahr organisiert der Meetingpoint Memory Messiaen e.V. eine Reihe von inhaltlich begleiteten Radtouren zu Orten in Görlitz\, Zgorzelec und der Region\, die historisch mit dem Zweiten Weltkrieg verbunden sind. Die Touren führen zu historischen Orten von Zwangsarbeit\, Kriegsgefangenschaft und jüdischem Leben. Während den Touren werden geladene Experten die Orte thematisch aufarbeiten und kontextualisieren.\nDie Touren finden jeweils sonntags um 11 Uhr statt. \nTermine und weitere Details zu den einzelnen Touren finden Sie unten. \nDie geplante Dauer der Radtouren beträgt bis zu 2\,5 Stunden. \nSprachen: Deutsch und Polnisch (Dolmetscher:innen werden vor Ort sein) \nAnzahl der Plätze: bis zu 20 pro Tour Sie können sich hier für die. \nDie Teilnahme ist kostenlos. \nTour anmelden HIER. \nMehr Informationen: https://www.meetingpoint-memory-messiaen.eu/cool_timeline/orte-des-verbrechens-an-juedinnen-und-juden/ \nyavorska@meetingpointmm.eu \n+49 (0) 3581 66 12 69
URL:https://www.meetingpoint-memory-messiaen.eu/event/fahrradtour-orte-des-verbrechens-an-juedinnen-und-juden/
LOCATION:Görlitz-Zgorzelec\, Görlitz\, Germany
CATEGORIES:Forgotten Places,Führung
ATTACH;FMTTYPE=image/jpeg:https://www.meetingpoint-memory-messiaen.eu/wp-content/uploads/2024/05/ForgottenPlaces_DE_kalendar.jpg
ORGANIZER;CN="Meetingpoint Memory Messiaen e.V.":MAILTO:info@meetingpointmm.eu
END:VEVENT
END:VCALENDAR